BEGIN:VCALENDAR
VERSION:2.0
PRODID:-//wp-events-plugin.com//7.2.3.1//EN
TZID:America/New_York
X-WR-TIMEZONE:America/New_York
BEGIN:VEVENT
UID:747@sundancerscapecod.com
DTSTART;TZID=America/New_York:20240731T170000
DTEND;TZID=America/New_York:20240731T200000
DTSTAMP:20240610T194706Z
URL:https://sundancerscapecod.com/events/chris-r-2024-07-31/
SUMMARY:Chris R
DESCRIPTION:
END:VEVENT
BEGIN:VTIMEZONE
TZID:America/New_York
X-LIC-LOCATION:America/New_York
BEGIN:DAYLIGHT
DTSTART:20240310T030000
TZOFFSETFROM:-0500
TZOFFSETTO:-0400
TZNAME:EDT
END:DAYLIGHT
END:VTIMEZONE
END:VCALENDAR